BEGIN:VCALENDAR
VERSION:2.0
PRODID:-//Josh Lisner - ECPv6.15.20//NONSGML v1.0//EN
CALSCALE:GREGORIAN
METHOD:PUBLISH
X-ORIGINAL-URL:https://joshlisner.com
X-WR-CALDESC:Events for Josh Lisner
REFRESH-INTERVAL;VALUE=DURATION:PT1H
X-Robots-Tag:noindex
X-PUBLISHED-TTL:PT1H
BEGIN:VTIMEZONE
TZID:America/New_York
BEGIN:DAYLIGHT
TZOFFSETFROM:-0500
TZOFFSETTO:-0400
TZNAME:EDT
DTSTART:20250309T070000
END:DAYLIGHT
BEGIN:STANDARD
TZOFFSETFROM:-0400
TZOFFSETTO:-0500
TZNAME:EST
DTSTART:20251102T060000
END:STANDARD
BEGIN:DAYLIGHT
TZOFFSETFROM:-0500
TZOFFSETTO:-0400
TZNAME:EDT
DTSTART:20260308T070000
END:DAYLIGHT
BEGIN:STANDARD
TZOFFSETFROM:-0400
TZOFFSETTO:-0500
TZNAME:EST
DTSTART:20261101T060000
END:STANDARD
BEGIN:DAYLIGHT
TZOFFSETFROM:-0500
TZOFFSETTO:-0400
TZNAME:EDT
DTSTART:20270314T070000
END:DAYLIGHT
BEGIN:STANDARD
TZOFFSETFROM:-0400
TZOFFSETTO:-0500
TZNAME:EST
DTSTART:20271107T060000
END:STANDARD
END:VTIMEZONE
BEGIN:VEVENT
DTSTART;TZID=America/New_York:20260509T160000
DTEND;TZID=America/New_York:20260509T180000
DTSTAMP:20260423T182108
CREATED:20250801T223942Z
LAST-MODIFIED:20250801T223942Z
UID:1608-1778342400-1778349600@joshlisner.com
SUMMARY:American Resonance
DESCRIPTION:We’ll close our season in the glorious acoustic of the Princeton University Chapel as we continue to celebrate American composers with a trio of works written in the 1960s: Leonard Bernstein’s Chichester Psalms\, Princeton composer Frank Lewin’s Requiem for Robert F. Kennedy\, which received its premiere in the Chapel itself in 1969\, and Margaret Bonds’ St. Francis Prayer. As a special treat\, Princeton University Organist Eric Plutz will present works for organ by American composers
URL:https://joshlisner.com/event/american-resonance/
LOCATION:Princeton University Chapel\, Princeton\, NJ\, 08540\, United States
ATTACH;FMTTYPE=image/jpeg:https://joshlisner.com/wp-content/uploads/2025/08/chapel.jpeg
ORGANIZER;CN="Princeton Pro Musica":MAILTO:info@princetonpromusica.org
END:VEVENT
END:VCALENDAR