BEGIN:VCALENDAR
VERSION:2.0
PRODID:-//Josh Lisner - ECPv6.15.20//NONSGML v1.0//EN
CALSCALE:GREGORIAN
METHOD:PUBLISH
X-WR-CALNAME:Josh Lisner
X-ORIGINAL-URL:https://joshlisner.com
X-WR-CALDESC:Events for Josh Lisner
REFRESH-INTERVAL;VALUE=DURATION:PT1H
X-Robots-Tag:noindex
X-PUBLISHED-TTL:PT1H
BEGIN:VTIMEZONE
TZID:America/New_York
BEGIN:DAYLIGHT
TZOFFSETFROM:-0500
TZOFFSETTO:-0400
TZNAME:EDT
DTSTART:20230312T070000
END:DAYLIGHT
BEGIN:STANDARD
TZOFFSETFROM:-0400
TZOFFSETTO:-0500
TZNAME:EST
DTSTART:20231105T060000
END:STANDARD
BEGIN:DAYLIGHT
TZOFFSETFROM:-0500
TZOFFSETTO:-0400
TZNAME:EDT
DTSTART:20240310T070000
END:DAYLIGHT
BEGIN:STANDARD
TZOFFSETFROM:-0400
TZOFFSETTO:-0500
TZNAME:EST
DTSTART:20241103T060000
END:STANDARD
BEGIN:DAYLIGHT
TZOFFSETFROM:-0500
TZOFFSETTO:-0400
TZNAME:EDT
DTSTART:20250309T070000
END:DAYLIGHT
BEGIN:STANDARD
TZOFFSETFROM:-0400
TZOFFSETTO:-0500
TZNAME:EST
DTSTART:20251102T060000
END:STANDARD
END:VTIMEZONE
BEGIN:VEVENT
DTSTART;TZID=America/New_York:20240214T200000
DTEND;TZID=America/New_York:20240214T200000
DTSTAMP:20260424T141346
CREATED:20240216T001107Z
LAST-MODIFIED:20240216T001123Z
UID:1462-1707940800-1707940800@joshlisner.com
SUMMARY:Orchestrating Maestro: Music and Conversation
DESCRIPTION:Orchestrating Maestro: Music and Conversation\n\nBradley Cooper\nSpeaker \nYannick Nézet-Séguin\nConductor / Speaker \nNick Blaemire\nCast \nMallory Portnoy\nCast \nKate Eastman\nCast \nCarey Mulligan\nCast \nZachary Booth\nCast \nMalakai Bayoh\nVocalist \nAnn De Renais\nSoprano \nSamuel Oladeinde\nTenor \nPhilip John Sheffield\nTenor \nMaestro Chorus\nMalcolm J. Merriweather\, chorus director\nGet inside the music and behind the scenes of one of today’s most compelling movies. Orchestrating Maestro: Music & Conversation is a celebration of the 2023 Academy Award–nominated movie about the beloved composer and NY Phil Laureate Conductor Leonard Bernstein. Netflix and the NY Phil present selections from the soundtrack of Bradley Cooper’s Maestro performed by Members of the New York Philharmonic\, led by Yannick Nézet-Séguin. Following the performance Cooper and Nézet-Séguin have a side-by-side conversation about Bernstein’s life and legacy. \nA first-come\, first-served standby line will be available at the Welcome Center at David Geffen Hall starting one hour prior to the performance. We cannot guarantee entry for standby guests.
URL:https://joshlisner.com/event/orchestrating-maestro-music-and-conversation/
LOCATION:Wu Tsai Theater\, David Geffen Hall\, 10 Lincoln Center Plaza\,\, New York\, 10023\, United States
ATTACH;FMTTYPE=image/webp:https://joshlisner.com/wp-content/uploads/2024/02/Bradley_Yannick_Photo-scaled.webp
END:VEVENT
BEGIN:VEVENT
DTSTART;TZID=America/New_York:20240227T200000
DTEND;TZID=America/New_York:20240227T200000
DTSTAMP:20260424T141346
CREATED:20240216T001528Z
LAST-MODIFIED:20240216T001528Z
UID:1469-1709064000-1709064000@joshlisner.com
SUMMARY:Carmina Burana - Orchestra of St. Luke’s & Westminster Choir College
DESCRIPTION:Performers\nOrchestra of St. Luke’s\nTito Muñoz\, Conductor\nYing Fang\, Soprano\nNicholas Phan\, Tenor\nNorman Garrett\, Baritone\nWestminster Symphonic Choir\nJames Jordan\, Director\nYoung People’s Chorus of New York City\nFrancisco J. Núñez\, Artistic Director
URL:https://joshlisner.com/event/carmina-burana-orchestra-of-st-lukes-westminster-choir-college/
LOCATION:Carnegie Hall\, 881 7th Ave\, New York\, NY\, 10019\, United States
ATTACH;FMTTYPE=image/png:https://joshlisner.com/wp-content/uploads/2019/02/Performances-Featured-Image-2-23.png
END:VEVENT
END:VCALENDAR