BEGIN:VCALENDAR
VERSION:2.0
PRODID:-//Josh Lisner - ECPv6.15.20//NONSGML v1.0//EN
CALSCALE:GREGORIAN
METHOD:PUBLISH
X-ORIGINAL-URL:https://joshlisner.com
X-WR-CALDESC:Events for Josh Lisner
REFRESH-INTERVAL;VALUE=DURATION:PT1H
X-Robots-Tag:noindex
X-PUBLISHED-TTL:PT1H
BEGIN:VTIMEZONE
TZID:America/New_York
BEGIN:DAYLIGHT
TZOFFSETFROM:-0500
TZOFFSETTO:-0400
TZNAME:EDT
DTSTART:20170312T070000
END:DAYLIGHT
BEGIN:STANDARD
TZOFFSETFROM:-0400
TZOFFSETTO:-0500
TZNAME:EST
DTSTART:20171105T060000
END:STANDARD
BEGIN:DAYLIGHT
TZOFFSETFROM:-0500
TZOFFSETTO:-0400
TZNAME:EDT
DTSTART:20180311T070000
END:DAYLIGHT
BEGIN:STANDARD
TZOFFSETFROM:-0400
TZOFFSETTO:-0500
TZNAME:EST
DTSTART:20181104T060000
END:STANDARD
BEGIN:DAYLIGHT
TZOFFSETFROM:-0500
TZOFFSETTO:-0400
TZNAME:EDT
DTSTART:20190310T070000
END:DAYLIGHT
BEGIN:STANDARD
TZOFFSETFROM:-0400
TZOFFSETTO:-0500
TZNAME:EST
DTSTART:20191103T060000
END:STANDARD
BEGIN:DAYLIGHT
TZOFFSETFROM:-0500
TZOFFSETTO:-0400
TZNAME:EDT
DTSTART:20200308T070000
END:DAYLIGHT
BEGIN:STANDARD
TZOFFSETFROM:-0400
TZOFFSETTO:-0500
TZNAME:EST
DTSTART:20201101T060000
END:STANDARD
END:VTIMEZONE
BEGIN:VTIMEZONE
TZID:UTC
BEGIN:STANDARD
TZOFFSETFROM:+0000
TZOFFSETTO:+0000
TZNAME:UTC
DTSTART:20170101T000000
END:STANDARD
END:VTIMEZONE
BEGIN:VEVENT
DTSTART;TZID=America/New_York:20190215T193000
DTEND;TZID=America/New_York:20190215T193000
DTSTAMP:20260423T183111
CREATED:20190112T044958Z
LAST-MODIFIED:20190201T043809Z
UID:285-1550259000-1550259000@joshlisner.com
SUMMARY:Westminster Kantorei: Lily Among Thorns
DESCRIPTION:Westminster Kantorei reprises works from its fall concert performing movements of Palestrina’s Missa Sicut Lilium Inter Spinas\, works by J. S. Bach and Allegri along with modern selections. Please join Josh in his first concert with this renowned ensemble. \nPresented as part of Interkultur’s “Sing ‘N’ Joy” Princeton International Choral Festival. \n  \n  \nFor ticket information click here. \n— \nWestminster Kantorei is an auditioned chamber choir specializing in early and contemporary music. Composed of graduate and undergraduate students\, the ensemble performs regularly with some of America’s leading specialists in early music\, including collaborations with the Dark Horse Consort\, Juilliard 415 and others. It was selected as a finalist for the 2014 American Prize\, whose judges stated that Kantorei is “truly outstanding\,” and described the choir as having a “finely-measured and delicate balance of voices\, and a mastery of stylistic performance practice.” \nLISTEN (link is external)to Amanda Quist discuss Lumina\, the ensemble’s new recording\, with WWFM The Classical Network’s David Osenberg. \nLISTEN(link is external) to Westminster Kantorei perform Heinrich Schütz’s Selig Sind die Toten\, which is included on the recording Lumina. \nLISTEN(link is external) to Westminster Kantorei perform Joseph Rheinberger’s Abendlied\, which is included on the recording Lumina. \nThe ensemble’s 2018-2019 season includes performances on the Westminster Choir College campus in Princeton and an appearance as a guest artist for Bach to the Future\, a Baroque festival hosted by the Choir School of Delaware. In February 2019\, Kantorei will perform for the Interkultur International Choral Festival. The choir’s 2017–2018 season included the release of its first solo recording\, Lumina\, hailed by infodad.com as a recording “sung with great beauty of sound and excellent articulation … a CD to cherish” and by National Medal of Arts recipient Morten Lauridsen as “superb\, a splendid recording\, highly recommended.” In addition to concerts in Princeton\, the ensemble performed at the American Choral Directors Association’s Eastern Division Conference in Pittsburgh\, where it was selected to premiere the Raymond Brock Memorial Commission by composer Tarik O’Regan. \nRecent seasons have included performances at the 2017 Boston Early Music Festival and the American Handel Festival\, as well as a series of performances of Bach’s St. Matthew Passion with the Westminster Choir and the New York Philharmonic\, conducted by Kurt Masur. Additionally\, as part of a 2016 concert tour in France and England\, Westminster Kantorei performed at the Festival en L’Île in Paris\, and in Windsor Castle’s Saint George’s Chapel. The ensemble has also served as the demonstration choir for a master class with Eric Whitacre for at the Choir College\, and it has collaborated with Princeton University Libraries in bringing to life newly acquired editions of works by Lassus and Wert. \nWestminster Kantorei has premiered works by a number of contemporary composers\, including Christian Carey\, Daniel Elder\, Doug Helvering\, Blake Hensen\, and the internationally acclaimed Swedish composer Sven-David Sandström.
URL:https://joshlisner.com/event/lily-among-thorns/
LOCATION:Princeton University Chapel\, Princeton\, NJ\, 08540\, United States
ATTACH;FMTTYPE=image/jpeg:https://joshlisner.com/wp-content/uploads/2019/01/Lily-Amoung-the-Thorns.jpg
END:VEVENT
BEGIN:VEVENT
DTSTART;TZID=America/New_York:20190202T193000
DTEND;TZID=America/New_York:20190202T193000
DTSTAMP:20260423T183111
CREATED:20190131T185930Z
LAST-MODIFIED:20190131T190001Z
UID:328-1549135800-1549135800@joshlisner.com
SUMMARY:Chinese New Year Celebration Concert
DESCRIPTION:Concert Information\n\n\nXIAN ZHANG conductor\nERIC WYRICK violin | JONATHAN SPITZ cello | MIN KWON piano\nPEKING UNIVERSITY ALUMNI CHORUS\nTHE NEW YORK FESTIVAL SINGERS\nSTARRY ARTS GROUP CHILDREN’S CHORUS Rebecca Shen\, director\nNAI-NI CHEN DANCE COMPANY Nai-Ni Chen\, choreographer\nEDISON CHINESE SCHOOL LION DANCE TEAM\nELENA KAMPOURIS host\nNEW JERSEY SYMPHONY ORCHESTRA \nStart a new tradition at the NJSO’s first-ever Chinese New Year celebration\, conducted by Xian Zhang. Musical riches abound in this program that blends Eastern and Western musical traditions. Li Huanzhi’s Spring Festival Overture is beloved in China yet almost reminiscent of Copland’s America. Songs and arias from opera and traditional Chinese culture show that music bridges all cultures. Beethoven’s Choral Fantasy with pianist Min Kwon brings all elements of this sumptuously crafted program together in a joyful performance. \nTRADITIONAL Dragon Dance\nLI HUANZHI Spring Festival Overture\nTAN DUN The Triple Resurrection\nVERDI “Anvil Chorus” from Il Trovatore\nBEETHOVEN Choral Fantasy\nPUCCINI “Humming Chorus” from Madama Butterfly\nPUCCINI “Jasmine Chorus” from Turandot\nTRADITIONAL CHINESE SONG/arr. Nicholas Hersh: 送别 “Farewell” \nPlease note: This performance is 80 minutes with no intermission. \nLobby Festival begins at 6 pm\nDelight in a happy celebration of the Year of the Pig with special pre-concert festivities for the whole family\, including traditional Chinese music performers\, calligraphy demonstrations\, crafts and more.
URL:https://joshlisner.com/event/chinese-new-year-celebration-concert/
LOCATION:New Jersey Performing Arts Center\, 1 Center St\, Newark\, NJ\, 07102\, United States
ATTACH;FMTTYPE=image/jpeg:https://joshlisner.com/wp-content/uploads/2018/08/NJPAC.jpg
END:VEVENT
BEGIN:VEVENT
DTSTART;TZID=America/New_York:20181208T200000
DTEND;TZID=America/New_York:20181208T200000
DTSTAMP:20260423T183111
CREATED:20180914T022240Z
LAST-MODIFIED:20181101T200619Z
UID:186-1544299200-1544299200@joshlisner.com
SUMMARY:An Evening of Readings and Carols
DESCRIPTION:Every year Westminster Choir College performs “An Evening of Readings and Carols” This holiday concert includes all of the curricular choirs at Westminster. The concert is held in the historical Princeton University Chapel. The students at Westminster look forward to this wonderful time where the community of Westminster comes together for the holiday time. \nTicket Information\nPlease call or visit the Westminster Box Office for Tickets. Information is below. \nMarion Buckelew Cullen Center\n101 Walnut Lane\nPrinceton\, N.J.\n1 p.m. – 4 p.m.\nMonday – Friday and at the door 1 hour before performances. \n609-921-2663\nMonday – Friday\n9 a.m. – 5 p.m.
URL:https://joshlisner.com/event/an-evening-of-readings-and-carols-2/
LOCATION:Princeton University Chapel\, Princeton\, NJ\, 08540\, United States
ATTACH;FMTTYPE=image/png:https://joshlisner.com/wp-content/uploads/2018/09/Readings-and-Carols-edit.png
END:VEVENT
BEGIN:VEVENT
DTSTART;TZID=America/New_York:20181207T200000
DTEND;TZID=America/New_York:20181207T200000
DTSTAMP:20260423T183111
CREATED:20180913T235732Z
LAST-MODIFIED:20181101T200249Z
UID:182-1544212800-1544212800@joshlisner.com
SUMMARY:An Evening of Readings and Carols
DESCRIPTION:Every year Westminster Choir College performs “An Evening of Readings and Carols” This holiday concert includes all of the curricular choirs at Westminster. The concert is held in the historical Princeton University Chapel. The students at Westminster look forward to this wonderful time where the community of Westminster comes together for the holiday time. \nTicket Information\nPlease call or visit the Westminster Box Office for Tickets. Information is below. \nMarion Buckelew Cullen Center\n101 Walnut Lane\nPrinceton\, N.J.\n1 p.m. – 4 p.m.\nMonday – Friday and at the door 1 hour before performances. \n609-921-2663\nMonday – Friday\n9 a.m. – 5 p.m.
URL:https://joshlisner.com/event/an-evening-of-readings-and-carols/
LOCATION:Princeton University Chapel\, Princeton\, NJ\, 08540\, United States
ATTACH;FMTTYPE=image/png:https://joshlisner.com/wp-content/uploads/2018/09/Readings-and-Carols-edit.png
END:VEVENT
BEGIN:VEVENT
DTSTART;TZID=America/New_York:20181202T170000
DTEND;TZID=America/New_York:20181202T180000
DTSTAMP:20260423T183111
CREATED:20180921T121857Z
LAST-MODIFIED:20180921T121857Z
UID:221-1543770000-1543773600@joshlisner.com
SUMMARY:Advent Readings and Carols
DESCRIPTION:Hear the groups at Immaculate Conception Church in Somerville perform their Christmas Concert\, Advent Readings and Carols. \nJosh Lisner is one of the professional singers at Immaculate Conception Church in Somerville\, New Jersey. With them Josh sings with the choir\, the professional Men’s Ensemble and as a Cantor. Josh has  been singing with theses groups since August of 2017 and hopes to continue with them for years to come.
URL:https://joshlisner.com/event/advent-readings-and-carols/
LOCATION:Immaculate Conception Church of Somerville\, 35 Mountain Ave\, Somerville\, NJ\, 08876\, United States
ATTACH;FMTTYPE=image/jpeg:https://joshlisner.com/wp-content/uploads/2018/08/ICC.jpg
END:VEVENT
BEGIN:VEVENT
DTSTART;TZID=America/New_York:20181111T200000
DTEND;TZID=America/New_York:20181111T200000
DTSTAMP:20260423T183111
CREATED:20180918T000337Z
LAST-MODIFIED:20181101T201048Z
UID:205-1541966400-1541966400@joshlisner.com
SUMMARY:Williamson Concert - The Dream that Remains
DESCRIPTION:About the Program\nPerforming music drawn from spiritual imagery inspired by life and meditation. The program includes works by Vasks\, Ešenvalds\, Relph\, Smith\, Whitbourn\, Rhineberger and Runestad\, as well as chant improvisation. The concert will feature two new works by Westminster Williamson Voices alumnus Thomas LaVoy: The Dreams That Remain and a work for baritone and choir commemorating World War I. \nAbout the Choir\nThe Grammy® nominated Westminster Williamson Voices\, named for the founder of Westminster Choir College\, John Finley Williamson\, is praised by reviewers on both sides of the Atlantic. Williamson Voices is the resident choir of the Choral Institute at Oxford (CIO)\, now in its sixth year. (www.rider.edu/oxford). The CIO has become of the leading institutes in the world for the training of conductors that emphasizes artistry in performance. Read more about the Westminster Williamson Voices. \nTicket Information\nClick here for Ticket Information
URL:https://joshlisner.com/event/williamson-concert-the-dream-that-remains-2/
LOCATION:Basilica of Saint Peter and Paul\, 18th Street & Benjamin Franklin Parkway\, Philadelphia\, PA\, 19103\, United States
ATTACH;FMTTYPE=image/png:https://joshlisner.com/wp-content/uploads/2018/09/Cathedral-Philly.png
END:VEVENT
BEGIN:VEVENT
DTSTART;TZID=America/New_York:20181109T200000
DTEND;TZID=America/New_York:20181109T200000
DTSTAMP:20260423T183111
CREATED:20180918T000037Z
LAST-MODIFIED:20181011T212957Z
UID:200-1541793600-1541793600@joshlisner.com
SUMMARY:Williamson Concert - The Dream that Remains
DESCRIPTION:About the Program\nPerforming music drawn from spiritual imagery inspired by life and meditation. The program includes works by Vasks\, Ešenvalds\, Relph\, Smith\, Whitbourn\, Rhineberger and Runestad\, as well as chant improvisation. The concert will feature two new works by Westminster Williamson Voices alumnus Thomas LaVoy: The Dreams That Remain and a work for baritone and choir commemorating World War I. \nAbout the Choir\nThe Grammy® nominated Westminster Williamson Voices\, named for the founder of Westminster Choir College\, John Finley Williamson\, is praised by reviewers on both sides of the Atlantic. Williamson Voices is the resident choir of the Choral Institute at Oxford (CIO)\, now in its sixth year. (www.rider.edu/oxford). The CIO has become of the leading institutes in the world for the training of conductors that emphasizes artistry in performance. Read more about the Westminster Williamson Voices. \nTicket Information\nClick here for ticket information.
URL:https://joshlisner.com/event/williamson-concert-the-dream-that-remains/
LOCATION:Bristol Chapel – Westminster Choir College\, 101 Walnut Lane\, Princeton\, NJ\, 08540\, United States
ATTACH;FMTTYPE=image/png:https://joshlisner.com/wp-content/uploads/2018/09/Westminster-Choir-College-2.png
END:VEVENT
BEGIN:VEVENT
DTSTART;TZID=America/New_York:20181028T193000
DTEND;TZID=America/New_York:20181028T203000
DTSTAMP:20260423T183111
CREATED:20180913T212507Z
LAST-MODIFIED:20180924T200355Z
UID:174-1540755000-1540758600@joshlisner.com
SUMMARY:Schola Cantorum Fall Concert
DESCRIPTION:Westminster Schola Cantorum is one of three curricular choirs at Westminster Choir College.  Composed of all students in their second year of study at the college\, this ensemble forms a vital link between the technique and artistry gained by students in their first-year experience at the college in the Westminster Chapel Choir and Westminster Symphonic Choir\, which performs with many of the world’s finest orchestras and is a cornerstone of the Westminster experience.  The second year of ensemble performance study focuses on refinement of ensemble skills combined with choral literature appropriate to both the musical growth and artistic understanding of the singers in the ensemble. \nWestminster Choir College is the only college in the world that focuses its program around a student’s choral experiences.  Unique to this experience is that students sing with their class for two years to not only build their artistry but to strengthen their sense of community and what it is to sing together.  This vision was the core value of the institution’s founder\, John Finley Williamson.  Westminster Schola Cantorum is also the only curricular choir that annually tours in the spring.  All students in this ensemble study with Westminster’s acclaimed voice faculty\, the largest voice faculty in the world.  In their second year of study\, students may audition for Westminster’s small ensembles: Westminster Choir\, Westminster Williamson Voices\, Westminster Kantorei\, Westminster Jubilee Singers and Westminster Concert Handbell Choir.  Many of the singers in Schola Cantorum are also members of those ensembles. \nThe ensemble’s 2017-2018 season includes a collaboration with Westminster Chapel Choir\, performing Brahms’s Liebeslieder Waltzes at the War Memorial in Trenton as part of Westminster’s Transforming Space project\, as well as a joint concert at Lincoln Center.  Additionally\, Westminster Schola Cantorum performed in Westminster’s annual An Evening of Readings and Carols in the Princeton University Chapel.  The spring includes a concert tour of the Southeast and a Homecoming concert in Princeton. \nIn past seasons\, the choir has performed major works in the choral repertoire:  Britten’s St. Nicolas\, Duruflé’s Requiem\, Poulenc’s Gloria\, Lauridsen’s Lux Aeterna\, Stravinsky’s Symphony of Psalms and Rachmanioff’s The Bells.  In addition to its fall concert and spring tour\, the choir is one of the Westminster ensembles featured in the college’s popular Evening of Readings and Carols\, which is presented in Princeton in December. \n  \nTicket information will be available soon.
URL:https://joshlisner.com/event/schola-cantorum-fall-concert/
LOCATION:Bristol Chapel – Westminster Choir College\, 101 Walnut Lane\, Princeton\, NJ\, 08540\, United States
ATTACH;FMTTYPE=image/png:https://joshlisner.com/wp-content/uploads/2018/09/Westminster-Choir-College-2.png
END:VEVENT
BEGIN:VEVENT
DTSTART;TZID=UTC:20181007T150000
DTEND;TZID=UTC:20181007T170000
DTSTAMP:20260423T183111
CREATED:20180821T013424Z
LAST-MODIFIED:20180924T201217Z
UID:114-1538924400-1538931600@joshlisner.com
SUMMARY:Beethoven's 9th Symphony
DESCRIPTION:Come hear Josh sing as a member of the Newark Voices\, directed by Dr. Heather J. Buchanan. \nWhen purchasing your tickets for the performances\, remember to use promo code NEWARKVOICES to receive 30% your ticket order. \nTickets can be purchased here. Josh will now be performing in all of the shows. \nConcert Information\n\n\nXIAN ZHANG conductor\nMARY ELIZABETH WILLIAMS soprano\nELIZABETH BISHOP mezzo-soprano\nLORENZO DECARO tenor\nREGINALD D. SMITH JR. baritone\nMONTCLAIR STATE UNIVERSITY SINGERS\nMONTCLAIR STATE UNIVERSITY CHORALE\nNEWARK VOICES Heather J. Buchanan\, conductor\nNEW JERSEY YOUTH CHORUSES Trish Joyce\, artistic director\nNEW JERSEY SYMPHONY ORCHESTRA \nBeethoven’s glorious Ninth\, led by Xian Zhang\, is a fitting start to a spectacular season. The NJSO is joined by singers from Montclair State University and a community choir based in Newark. Newark Voices performs Oct 5 & 7 only. \n\n\n\nKATE WHITLEY Speak Out (US Premiere)\n\nStirring and poignant; rising British composer Kate Whitley’s work is based on Malala Yousafzai’s legendary speech to the United Nations advocating the right of every girl to have an education. \n\n\nBEETHOVEN Symphony No. 9\, “Choral”\n\nAn unmistakable masterpiece; the hymn’s text extolling the human bond is sung by a joyful assembly\, a massed choir including singers from MSU and our surrounding communities.
URL:https://joshlisner.com/event/beethovens-9th-symphony-2/
LOCATION:New Jersey Performing Arts Center\, 1 Center St\, Newark\, NJ\, 07102\, United States
ATTACH;FMTTYPE=image/jpeg:https://joshlisner.com/wp-content/uploads/2018/08/NJPAC.jpg
END:VEVENT
BEGIN:VEVENT
DTSTART;TZID=America/New_York:20181006T200000
DTEND;TZID=America/New_York:20181006T210000
DTSTAMP:20260423T183111
CREATED:20180924T201138Z
LAST-MODIFIED:20180924T201138Z
UID:225-1538856000-1538859600@joshlisner.com
SUMMARY:Beethoven's 9th Symphony
DESCRIPTION:Come hear Josh sing as a member of the Newark Voices\, directed by Dr. Heather J. Buchanan. \nWhen purchasing your tickets for the performances\, remember to use promo code NEWARKVOICES to receive 30% your ticket order. \nTickets can be purchased here. Josh will now be performing in all of the shows. \nConcert Information\n\n\nXIAN ZHANG conductor\nMARY ELIZABETH WILLIAMS soprano\nELIZABETH BISHOP mezzo-soprano\nLORENZO DECARO tenor\nREGINALD D. SMITH JR. baritone\nMONTCLAIR STATE UNIVERSITY SINGERS\nMONTCLAIR STATE UNIVERSITY CHORALE\nNEWARK VOICES Heather J. Buchanan\, conductor\nNEW JERSEY YOUTH CHORUSES Trish Joyce\, artistic director\nNEW JERSEY SYMPHONY ORCHESTRA \nBeethoven’s glorious Ninth\, led by Xian Zhang\, is a fitting start to a spectacular season. The NJSO is joined by singers from Montclair State University and a community choir based in Newark. Newark Voices performs Oct 5 & 7 only. \n\n\n\nKATE WHITLEY Speak Out (US Premiere)\n\nStirring and poignant; rising British composer Kate Whitley’s work is based on Malala Yousafzai’s legendary speech to the United Nations advocating the right of every girl to have an education. \n\n\nBEETHOVEN Symphony No. 9\, “Choral”\n\nAn unmistakable masterpiece; the hymn’s text extolling the human bond is sung by a joyful assembly\, a massed choir including singers from MSU and our surrounding communities.
URL:https://joshlisner.com/event/beethovens-9th-symphony-3/
LOCATION:State Theater New Jersey\, 15 Livingston Ave\, New Brunswick\, NJ\, 08901\, United States
ATTACH;FMTTYPE=image/jpeg:https://joshlisner.com/wp-content/uploads/2018/08/NJPAC.jpg
END:VEVENT
BEGIN:VEVENT
DTSTART;TZID=UTC:20181005T193000
DTEND;TZID=UTC:20181005T220000
DTSTAMP:20260423T183111
CREATED:20180821T013115Z
LAST-MODIFIED:20180924T201309Z
UID:109-1538767800-1538776800@joshlisner.com
SUMMARY:Beethoven's 9th Symphony
DESCRIPTION:Come hear Josh sing as a member of the Newark Voices\, directed by Dr. Heather J. Buchanan. \nWhen purchasing your tickets for the performances\, remember to use promo code NEWARKVOICES to receive 30% your ticket order. \nTickets can be purchased here. Josh will now be performing in all of the shows. \nConcert Information\n\n\nXIAN ZHANG conductor\nMARY ELIZABETH WILLIAMS soprano\nELIZABETH BISHOP mezzo-soprano\nLORENZO DECARO tenor\nREGINALD D. SMITH JR. baritone\nMONTCLAIR STATE UNIVERSITY SINGERS\nMONTCLAIR STATE UNIVERSITY CHORALE\nNEWARK VOICES Heather J. Buchanan\, conductor\nNEW JERSEY YOUTH CHORUSES Trish Joyce\, artistic director\nNEW JERSEY SYMPHONY ORCHESTRA \nBeethoven’s glorious Ninth\, led by Xian Zhang\, is a fitting start to a spectacular season. The NJSO is joined by singers from Montclair State University and a community choir based in Newark. Newark Voices performs Oct 5 & 7 only. \n\n\n\nKATE WHITLEY Speak Out (US Premiere)\n\nStirring and poignant; rising British composer Kate Whitley’s work is based on Malala Yousafzai’s legendary speech to the United Nations advocating the right of every girl to have an education. \n\n\nBEETHOVEN Symphony No. 9\, “Choral”\n\nAn unmistakable masterpiece; the hymn’s text extolling the human bond is sung by a joyful assembly\, a massed choir including singers from MSU and our surrounding communities.
URL:https://joshlisner.com/event/beethovens-9th-symphony/
LOCATION:New Jersey Performing Arts Center\, 1 Center St\, Newark\, NJ\, 07102\, United States
ATTACH;FMTTYPE=image/jpeg:https://joshlisner.com/wp-content/uploads/2018/08/NJPAC.jpg
END:VEVENT
END:VCALENDAR