BEGIN:VCALENDAR
VERSION:2.0
PRODID:-//Josh Lisner - ECPv6.15.20//NONSGML v1.0//EN
CALSCALE:GREGORIAN
METHOD:PUBLISH
X-WR-CALNAME:Josh Lisner
X-ORIGINAL-URL:https://joshlisner.com
X-WR-CALDESC:Events for Josh Lisner
REFRESH-INTERVAL;VALUE=DURATION:PT1H
X-Robots-Tag:noindex
X-PUBLISHED-TTL:PT1H
BEGIN:VTIMEZONE
TZID:America/New_York
BEGIN:DAYLIGHT
TZOFFSETFROM:-0500
TZOFFSETTO:-0400
TZNAME:EDT
DTSTART:20250309T070000
END:DAYLIGHT
BEGIN:STANDARD
TZOFFSETFROM:-0400
TZOFFSETTO:-0500
TZNAME:EST
DTSTART:20251102T060000
END:STANDARD
BEGIN:DAYLIGHT
TZOFFSETFROM:-0500
TZOFFSETTO:-0400
TZNAME:EDT
DTSTART:20260308T070000
END:DAYLIGHT
BEGIN:STANDARD
TZOFFSETFROM:-0400
TZOFFSETTO:-0500
TZNAME:EST
DTSTART:20261101T060000
END:STANDARD
BEGIN:DAYLIGHT
TZOFFSETFROM:-0500
TZOFFSETTO:-0400
TZNAME:EDT
DTSTART:20270314T070000
END:DAYLIGHT
BEGIN:STANDARD
TZOFFSETFROM:-0400
TZOFFSETTO:-0500
TZNAME:EST
DTSTART:20271107T060000
END:STANDARD
END:VTIMEZONE
BEGIN:VEVENT
DTSTART;TZID=America/New_York:20260310T200000
DTEND;TZID=America/New_York:20260310T220000
DTSTAMP:20260423T170821
CREATED:20250902T140943Z
LAST-MODIFIED:20250902T140943Z
UID:1620-1773172800-1773180000@joshlisner.com
SUMMARY:Mahler Symphony No. 2 in C minor (“Resurrection”)
DESCRIPTION:The ecstatic praise given to Gustav Mahler’s “Resurrection” Symphony might seem hyperbolic to those unfamiliar\, but the impact this colossal symphony has on listeners is real. “I think there is no one who can resist it\,” Mahler once said. “One is battered to the ground and then raised on angel’s wings to the highest heights.” Tonight\, experience the life-changing symphony in the same concert hall where Mahler conducted its US premiere. Led by Yannick Nézet-Séguin\, The Philadelphia Orchestra welcomes world-renowned singers Ying Fang and Joyce DiDonato alongside the Philadelphia Symphonic Choir.
URL:https://joshlisner.com/event/mahler-symphony-no-2-in-c-minor-resurrection/
LOCATION:Carnegie Hall\, 881 7th Ave\, New York\, NY\, 10019\, United States
ATTACH;FMTTYPE=image/jpeg:https://joshlisner.com/wp-content/uploads/2019/09/Carnegie-Hall.jpg
ORGANIZER;CN="The Philadelphia Orchestra":MAILTO:philadelphia_orchestra@philadelphiaorchestra.org
END:VEVENT
END:VCALENDAR