BEGIN:VCALENDAR
VERSION:2.0
PRODID:-//Josh Lisner - ECPv6.15.20//NONSGML v1.0//EN
CALSCALE:GREGORIAN
METHOD:PUBLISH
X-WR-CALNAME:Josh Lisner
X-ORIGINAL-URL:https://joshlisner.com
X-WR-CALDESC:Events for Josh Lisner
REFRESH-INTERVAL;VALUE=DURATION:PT1H
X-Robots-Tag:noindex
X-PUBLISHED-TTL:PT1H
BEGIN:VTIMEZONE
TZID:America/New_York
BEGIN:DAYLIGHT
TZOFFSETFROM:-0500
TZOFFSETTO:-0400
TZNAME:EDT
DTSTART:20240310T070000
END:DAYLIGHT
BEGIN:STANDARD
TZOFFSETFROM:-0400
TZOFFSETTO:-0500
TZNAME:EST
DTSTART:20241103T060000
END:STANDARD
BEGIN:DAYLIGHT
TZOFFSETFROM:-0500
TZOFFSETTO:-0400
TZNAME:EDT
DTSTART:20250309T070000
END:DAYLIGHT
BEGIN:STANDARD
TZOFFSETFROM:-0400
TZOFFSETTO:-0500
TZNAME:EST
DTSTART:20251102T060000
END:STANDARD
BEGIN:DAYLIGHT
TZOFFSETFROM:-0500
TZOFFSETTO:-0400
TZNAME:EDT
DTSTART:20260308T070000
END:DAYLIGHT
BEGIN:STANDARD
TZOFFSETFROM:-0400
TZOFFSETTO:-0500
TZNAME:EST
DTSTART:20261101T060000
END:STANDARD
END:VTIMEZONE
BEGIN:VEVENT
DTSTART;TZID=America/New_York:20251019T160000
DTEND;TZID=America/New_York:20251019T180000
DTSTAMP:20260423T142545
CREATED:20250718T163753Z
LAST-MODIFIED:20250718T165807Z
UID:1582-1760889600-1760896800@joshlisner.com
SUMMARY:Bachtoberfest! - Princeton Pro Musica
DESCRIPTION:Bachtoberfest! – Princeton Pro Musica\nSunday\, October 19\, 2025\, 4 p.m.\nA festive season opener featuring favorites of Bach including Magnificat\, Concerto for Two Violins\, and more.
URL:https://joshlisner.com/event/bachtoberfest-princeton-pro-musica/
LOCATION:Richardson Auditorium\, 68 Nassau St\, Princeton\, NJ\, 08540\, United States
ATTACH;FMTTYPE=image/jpeg:https://joshlisner.com/wp-content/uploads/2025/07/richardson1.jpg
ORGANIZER;CN="Princeton Pro Musica":MAILTO:info@princetonpromusica.org
END:VEVENT
END:VCALENDAR