BEGIN:VCALENDAR
VERSION:2.0
PRODID:-//Josh Lisner - ECPv6.15.20//NONSGML v1.0//EN
CALSCALE:GREGORIAN
METHOD:PUBLISH
X-ORIGINAL-URL:https://joshlisner.com
X-WR-CALDESC:Events for Josh Lisner
REFRESH-INTERVAL;VALUE=DURATION:PT1H
X-Robots-Tag:noindex
X-PUBLISHED-TTL:PT1H
BEGIN:VTIMEZONE
TZID:America/New_York
BEGIN:DAYLIGHT
TZOFFSETFROM:-0500
TZOFFSETTO:-0400
TZNAME:EDT
DTSTART:20230312T070000
END:DAYLIGHT
BEGIN:STANDARD
TZOFFSETFROM:-0400
TZOFFSETTO:-0500
TZNAME:EST
DTSTART:20231105T060000
END:STANDARD
BEGIN:DAYLIGHT
TZOFFSETFROM:-0500
TZOFFSETTO:-0400
TZNAME:EDT
DTSTART:20240310T070000
END:DAYLIGHT
BEGIN:STANDARD
TZOFFSETFROM:-0400
TZOFFSETTO:-0500
TZNAME:EST
DTSTART:20241103T060000
END:STANDARD
BEGIN:DAYLIGHT
TZOFFSETFROM:-0500
TZOFFSETTO:-0400
TZNAME:EDT
DTSTART:20250309T070000
END:DAYLIGHT
BEGIN:STANDARD
TZOFFSETFROM:-0400
TZOFFSETTO:-0500
TZNAME:EST
DTSTART:20251102T060000
END:STANDARD
END:VTIMEZONE
BEGIN:VEVENT
DTSTART;VALUE=DATE:20241221
DTEND;VALUE=DATE:20241223
DTSTAMP:20260424T023442
CREATED:20240928T115747Z
LAST-MODIFIED:20240928T115747Z
UID:1518-1734739200-1734911999@joshlisner.com
SUMMARY:Handel's Messiah
DESCRIPTION:Handel’s transcendent choral masterwork is a highlight of the holiday season\, gathering friends and family in what\, for many\, is an unmissable annual tradition. Renowned for his interpretations of this classic\, Yannick unites Orchestra\, soloists\, and chorus in a sound that is at once as “intimate as it is grand … notably warm and … remarkably tender\,” leaving “listeners ready to sing a glorious ‘Hallelujah!’” (Philadelphia). \n  \nThe Philadelphia Orchestra\nYannick Nézet-Séguin – Conductor \nPhiladelphia Symphonic Choir\nJoe Miller – Director
URL:https://joshlisner.com/event/handels-messiah/
LOCATION:Marion Anderson Hall – Kimmel Center\, 300 S Broad St\, Philadelphia\, PA\, 19102\, United States
ATTACH;FMTTYPE=image/webp:https://joshlisner.com/wp-content/uploads/2024/09/POA_20240126_PhilaSymChoir_1647_PeteChecchia_1.webp
ORGANIZER;CN="The Philadelphia Orchestra":MAILTO:philadelphia_orchestra@philadelphiaorchestra.org
END:VEVENT
END:VCALENDAR