BEGIN:VCALENDAR
VERSION:2.0
PRODID:-//Josh Lisner - ECPv6.15.20//NONSGML v1.0//EN
CALSCALE:GREGORIAN
METHOD:PUBLISH
X-ORIGINAL-URL:https://joshlisner.com
X-WR-CALDESC:Events for Josh Lisner
REFRESH-INTERVAL;VALUE=DURATION:PT1H
X-Robots-Tag:noindex
X-PUBLISHED-TTL:PT1H
BEGIN:VTIMEZONE
TZID:America/New_York
BEGIN:DAYLIGHT
TZOFFSETFROM:-0500
TZOFFSETTO:-0400
TZNAME:EDT
DTSTART:20230312T070000
END:DAYLIGHT
BEGIN:STANDARD
TZOFFSETFROM:-0400
TZOFFSETTO:-0500
TZNAME:EST
DTSTART:20231105T060000
END:STANDARD
BEGIN:DAYLIGHT
TZOFFSETFROM:-0500
TZOFFSETTO:-0400
TZNAME:EDT
DTSTART:20240310T070000
END:DAYLIGHT
BEGIN:STANDARD
TZOFFSETFROM:-0400
TZOFFSETTO:-0500
TZNAME:EST
DTSTART:20241103T060000
END:STANDARD
BEGIN:DAYLIGHT
TZOFFSETFROM:-0500
TZOFFSETTO:-0400
TZNAME:EDT
DTSTART:20250309T070000
END:DAYLIGHT
BEGIN:STANDARD
TZOFFSETFROM:-0400
TZOFFSETTO:-0500
TZNAME:EST
DTSTART:20251102T060000
END:STANDARD
END:VTIMEZONE
BEGIN:VEVENT
DTSTART;VALUE=DATE:20241024
DTEND;VALUE=DATE:20241027
DTSTAMP:20260424T062731
CREATED:20240928T120120Z
LAST-MODIFIED:20240928T120120Z
UID:1523-1729728000-1729987199@joshlisner.com
SUMMARY:Riccardo Muti Leads Verdi’s Requiem
DESCRIPTION:The sublime and terrifying beauty of Verdi’s Requiem surrounds you in performances led by legendary former Music Director Riccardo Muti\, whose masterful interpretation brings to life the transcendent “Lacrymosa\,” the heavens-shaking “Dies irae\,” and the grace-filled finale.  \nThe Philadelphia Orchestra\nRiccardo Muti – Conductor \nJuliana Grigoryan\nSoprano \nIsabel De Paoli\nMezzo-Soprano \nGiovanni Sala\nTenor \nMaharram Huseynov\nBass-Baritone \nPhiladelphia Symphonic Choir\nJoe Miller – Director
URL:https://joshlisner.com/event/riccardo-muti-leads-verdis-requiem/
LOCATION:Marion Anderson Hall – Kimmel Center\, 300 S Broad St\, Philadelphia\, PA\, 19102\, United States
ATTACH;FMTTYPE=image/webp:https://joshlisner.com/wp-content/uploads/2024/09/riccardo-muti-verdi-requiem.webp
ORGANIZER;CN="The Philadelphia Orchestra":MAILTO:philadelphia_orchestra@philadelphiaorchestra.org
END:VEVENT
END:VCALENDAR